BEGIN:VCALENDAR
VERSION:2.0
PRODID:-//NAKO - ECPv6.13.2.1//NONSGML v1.0//EN
CALSCALE:GREGORIAN
METHOD:PUBLISH
X-WR-CALNAME:NAKO
X-ORIGINAL-URL:https://nakocenter.com
X-WR-CALDESC:Events for NAKO
REFRESH-INTERVAL;VALUE=DURATION:PT1H
X-Robots-Tag:noindex
X-PUBLISHED-TTL:PT1H
BEGIN:VTIMEZONE
TZID:UTC
BEGIN:STANDARD
TZOFFSETFROM:+0000
TZOFFSETTO:+0000
TZNAME:UTC
DTSTART:20240101T000000
END:STANDARD
END:VTIMEZONE
BEGIN:VEVENT
DTSTART;TZID=UTC:20241215T080000
DTEND;TZID=UTC:20241215T170000
DTSTAMP:20260423T181642
CREATED:20240403T201609Z
LAST-MODIFIED:20240403T202210Z
UID:905-1734249600-1734282000@nakocenter.com
SUMMARY:Kyu Grading
DESCRIPTION:
URL:https://nakocenter.com/event/kyu-grading-3/
CATEGORIES:Kyu Grading
END:VEVENT
BEGIN:VEVENT
DTSTART;TZID=UTC:20240922T080000
DTEND;TZID=UTC:20240922T170000
DTSTAMP:20260423T181642
CREATED:20240403T201435Z
LAST-MODIFIED:20240403T202240Z
UID:903-1726992000-1727024400@nakocenter.com
SUMMARY:Kyu Grading
DESCRIPTION:
URL:https://nakocenter.com/event/kyu-grading-2/
CATEGORIES:Kyu Grading
END:VEVENT
BEGIN:VEVENT
DTSTART;TZID=UTC:20240608T080000
DTEND;TZID=UTC:20240608T170000
DTSTAMP:20260423T181642
CREATED:20240403T200739Z
LAST-MODIFIED:20240403T202317Z
UID:897-1717833600-1717866000@nakocenter.com
SUMMARY:Kyu Grading
DESCRIPTION:
URL:https://nakocenter.com/event/kyu-grading/
CATEGORIES:Kyu Grading
END:VEVENT
END:VCALENDAR