BEGIN:VCALENDAR
VERSION:2.0
PRODID:-//NAKO - ECPv6.13.2.1//NONSGML v1.0//EN
CALSCALE:GREGORIAN
METHOD:PUBLISH
X-WR-CALNAME:NAKO
X-ORIGINAL-URL:https://nakocenter.com
X-WR-CALDESC:Events for NAKO
REFRESH-INTERVAL;VALUE=DURATION:PT1H
X-Robots-Tag:noindex
X-PUBLISHED-TTL:PT1H
BEGIN:VTIMEZONE
TZID:UTC
BEGIN:STANDARD
TZOFFSETFROM:+0000
TZOFFSETTO:+0000
TZNAME:UTC
DTSTART:20240101T000000
END:STANDARD
END:VTIMEZONE
BEGIN:VEVENT
DTSTART;TZID=UTC:20240803T080000
DTEND;TZID=UTC:20240803T170000
DTSTAMP:20260423T212509
CREATED:20240403T201202Z
LAST-MODIFIED:20240423T173442Z
UID:901-1722672000-1722704400@nakocenter.com
SUMMARY:Oswego Beach Training
DESCRIPTION:
URL:https://nakocenter.com/event/oswego-beach-training/
LOCATION:Oswego Beach
CATEGORIES:Oswego Beach Training
ATTACH;FMTTYPE=image/jpeg:https://nakocenter.com/wp-content/uploads/2024/04/iStock-1372760151.jpg
END:VEVENT
END:VCALENDAR