BEGIN:VCALENDAR
VERSION:2.0
PRODID:-//NAKO - ECPv6.13.2.1//NONSGML v1.0//EN
CALSCALE:GREGORIAN
METHOD:PUBLISH
X-ORIGINAL-URL:https://nakocenter.com
X-WR-CALDESC:Events for NAKO
REFRESH-INTERVAL;VALUE=DURATION:PT1H
X-Robots-Tag:noindex
X-PUBLISHED-TTL:PT1H
BEGIN:VTIMEZONE
TZID:UTC
BEGIN:STANDARD
TZOFFSETFROM:+0000
TZOFFSETTO:+0000
TZNAME:UTC
DTSTART:20250101T000000
END:STANDARD
END:VTIMEZONE
BEGIN:VEVENT
DTSTART;TZID=UTC:20250201T080000
DTEND;TZID=UTC:20250201T170000
DTSTAMP:20260423T200007
CREATED:20240403T201728Z
LAST-MODIFIED:20240403T201728Z
UID:907-1738396800-1738429200@nakocenter.com
SUMMARY:Oswego Winter Training
DESCRIPTION:
URL:https://nakocenter.com/event/oswego-winter-training/
CATEGORIES:Oswego Winter Training
END:VEVENT
END:VCALENDAR