BEGIN:VCALENDAR
VERSION:2.0
PRODID:-//NAKO - ECPv6.13.2.1//NONSGML v1.0//EN
CALSCALE:GREGORIAN
METHOD:PUBLISH
X-ORIGINAL-URL:https://nakocenter.com
X-WR-CALDESC:Events for NAKO
REFRESH-INTERVAL;VALUE=DURATION:PT1H
X-Robots-Tag:noindex
X-PUBLISHED-TTL:PT1H
BEGIN:VTIMEZONE
TZID:UTC
BEGIN:STANDARD
TZOFFSETFROM:+0000
TZOFFSETTO:+0000
TZNAME:UTC
DTSTART:20240101T000000
END:STANDARD
END:VTIMEZONE
BEGIN:VEVENT
DTSTART;VALUE=DATE:20240711
DTEND;VALUE=DATE:20240715
DTSTAMP:20260423T212454
CREATED:20240403T201011Z
LAST-MODIFIED:20240425T164628Z
UID:899-1720656000-1721001599@nakocenter.com
SUMMARY:Kyokushin Summer Camp
DESCRIPTION:Click the titles below to obtain the information required to facilitate your Summer Camp experience.\nSummer Camp Itinerary 2024\nSummer Camp Invitation Letter 2024\nSummer Camp 2024 – Payment Instruction Sheet\nSummer Camp 2024 – FAQ General Info
URL:https://nakocenter.com/event/summer-camp/
CATEGORIES:Summer Camp
ORGANIZER;CN="Sensei Susan Collins":MAILTO:scollinseire@yahoo.com
END:VEVENT
END:VCALENDAR