BEGIN:VCALENDAR
VERSION:2.0
PRODID:-//NAKO - ECPv6.13.2.1//NONSGML v1.0//EN
CALSCALE:GREGORIAN
METHOD:PUBLISH
X-ORIGINAL-URL:https://nakocenter.com
X-WR-CALDESC:Events for NAKO
REFRESH-INTERVAL;VALUE=DURATION:PT1H
X-Robots-Tag:noindex
X-PUBLISHED-TTL:PT1H
BEGIN:VTIMEZONE
TZID:UTC
BEGIN:STANDARD
TZOFFSETFROM:+0000
TZOFFSETTO:+0000
TZNAME:UTC
DTSTART:20240101T000000
END:STANDARD
END:VTIMEZONE
BEGIN:VEVENT
DTSTART;TZID=UTC:20240622T103000
DTEND;TZID=UTC:20240622T170000
DTSTAMP:20260423T213423
CREATED:20240521T180943Z
LAST-MODIFIED:20240601T132038Z
UID:1549-1719052200-1719075600@nakocenter.com
SUMMARY:19th Sensei Jim Grafe Memorial Martial Arts Tournament
DESCRIPTION:Check-In: 9:00-10:00 a.m.\nOpening Ceremony: 10:30 a.m. Competition starts immediately following\nLocation: Total Sports Experience 880 Elmgrove Road Rochester\, NY\nPre-registration Deadline: June 15\, 2024\n*Add $20 for June 16-20 No same-day registration!* \nSee www.hiltonkarate.com for more details. \nRegistration packet download: \nhttps://hiltonkarate.com/wp-content/uploads/2024/04/2024-Sensei-Jim-Tourney-registration-packet.pdf
URL:https://nakocenter.com/event/19th-sensei-jim-grafe-memorial-martial-arts-tournament/
CATEGORIES:Tournaments
END:VEVENT
END:VCALENDAR