BEGIN:VCALENDAR
VERSION:2.0
PRODID:-//NAKO - ECPv6.13.2.1//NONSGML v1.0//EN
CALSCALE:GREGORIAN
METHOD:PUBLISH
X-WR-CALNAME:NAKO
X-ORIGINAL-URL:https://nakocenter.com
X-WR-CALDESC:Events for NAKO
REFRESH-INTERVAL;VALUE=DURATION:PT1H
X-Robots-Tag:noindex
X-PUBLISHED-TTL:PT1H
BEGIN:VTIMEZONE
TZID:UTC
BEGIN:STANDARD
TZOFFSETFROM:+0000
TZOFFSETTO:+0000
TZNAME:UTC
DTSTART:20240101T000000
END:STANDARD
END:VTIMEZONE
BEGIN:VEVENT
DTSTART;TZID=UTC:20251207T080000
DTEND;TZID=UTC:20251207T150000
DTSTAMP:20260423T152300
CREATED:20250121T134505Z
LAST-MODIFIED:20250121T134505Z
UID:1643-1765094400-1765119600@nakocenter.com
SUMMARY:Kyu Grading
DESCRIPTION:Kyu Grading   Throughout NAKO dojos
URL:https://nakocenter.com/event/kyu-grading-7/
END:VEVENT
BEGIN:VEVENT
DTSTART;TZID=UTC:20250921T080000
DTEND;TZID=UTC:20250921T150000
DTSTAMP:20260423T152300
CREATED:20250121T134405Z
LAST-MODIFIED:20250121T134405Z
UID:1641-1758441600-1758466800@nakocenter.com
SUMMARY:Kyu Grading
DESCRIPTION:Kyu Grading – September 21\, 2025          Throughout NAKO dojos
URL:https://nakocenter.com/event/kyu-grading-6/
END:VEVENT
BEGIN:VEVENT
DTSTART;TZID=UTC:20250802T080000
DTEND;TZID=UTC:20250802T150000
DTSTAMP:20260423T152300
CREATED:20250121T134325Z
LAST-MODIFIED:20250121T134325Z
UID:1638-1754121600-1754146800@nakocenter.com
SUMMARY:Beach Training - Southwick Beach State Park
DESCRIPTION:
URL:https://nakocenter.com/event/beach-training-southwick-beach-state-park/
END:VEVENT
BEGIN:VEVENT
DTSTART;TZID=UTC:20250712T080000
DTEND;TZID=UTC:20250712T170000
DTSTAMP:20260423T152300
CREATED:20240403T201855Z
LAST-MODIFIED:20240403T202154Z
UID:909-1752307200-1752339600@nakocenter.com
SUMMARY:Dan Grading
DESCRIPTION:
URL:https://nakocenter.com/event/dan-grading/
CATEGORIES:Dan Grading
END:VEVENT
BEGIN:VEVENT
DTSTART;TZID=UTC:20250710T080000
DTEND;TZID=UTC:20250713T170000
DTSTAMP:20260423T152300
CREATED:20250121T134153Z
LAST-MODIFIED:20250121T134153Z
UID:1636-1752134400-1752426000@nakocenter.com
SUMMARY:Summer Camp -  Oswego\, New York
DESCRIPTION:Summer Camp   – July 10 – 13\, 2025         Oswego\, New York
URL:https://nakocenter.com/event/summer-camp-oswego-new-york/
END:VEVENT
BEGIN:VEVENT
DTSTART;TZID=UTC:20250608T080000
DTEND;TZID=UTC:20250608T150000
DTSTAMP:20260423T152300
CREATED:20250121T134045Z
LAST-MODIFIED:20250121T134045Z
UID:1634-1749369600-1749394800@nakocenter.com
SUMMARY:Kyu Grading
DESCRIPTION:Throughout NAKO dojos
URL:https://nakocenter.com/event/kyu-grading-5/
END:VEVENT
BEGIN:VEVENT
DTSTART;TZID=UTC:20250309T080000
DTEND;TZID=UTC:20250309T150000
DTSTAMP:20260423T152300
CREATED:20250121T133842Z
LAST-MODIFIED:20250121T133842Z
UID:1630-1741507200-1741532400@nakocenter.com
SUMMARY:Kyu Grading
DESCRIPTION:Throughout NAKO dojos
URL:https://nakocenter.com/event/kyu-grading-4/
END:VEVENT
BEGIN:VEVENT
DTSTART;TZID=UTC:20250201T080000
DTEND;TZID=UTC:20250201T170000
DTSTAMP:20260423T152300
CREATED:20240403T201728Z
LAST-MODIFIED:20240403T201728Z
UID:907-1738396800-1738429200@nakocenter.com
SUMMARY:Oswego Winter Training
DESCRIPTION:
URL:https://nakocenter.com/event/oswego-winter-training/
CATEGORIES:Oswego Winter Training
END:VEVENT
BEGIN:VEVENT
DTSTART;TZID=UTC:20250201T080000
DTEND;TZID=UTC:20250201T150000
DTSTAMP:20260423T152300
CREATED:20250121T133733Z
LAST-MODIFIED:20250121T133733Z
UID:1628-1738396800-1738422000@nakocenter.com
SUMMARY:NAKO Winter Camp  - Oswego\, New York
DESCRIPTION:NAKO Winter Camp – Oswego\, New York
URL:https://nakocenter.com/event/nako-winter-camp-oswego-new-york/
END:VEVENT
BEGIN:VEVENT
DTSTART;TZID=UTC:20250121T080000
DTEND;TZID=UTC:20250121T150000
DTSTAMP:20260423T152300
CREATED:20250121T133957Z
LAST-MODIFIED:20250121T133957Z
UID:1632-1737446400-1737471600@nakocenter.com
SUMMARY:Canadian Seminar -Repentigny\, Quebec
DESCRIPTION:Canadian Seminar\, April 6\, 2025               Repentigny\, Quebec
URL:https://nakocenter.com/event/canadian-seminar-repentigny-quebec/
END:VEVENT
BEGIN:VEVENT
DTSTART;TZID=UTC:20241215T080000
DTEND;TZID=UTC:20241215T170000
DTSTAMP:20260423T152300
CREATED:20240403T201609Z
LAST-MODIFIED:20240403T202210Z
UID:905-1734249600-1734282000@nakocenter.com
SUMMARY:Kyu Grading
DESCRIPTION:
URL:https://nakocenter.com/event/kyu-grading-3/
CATEGORIES:Kyu Grading
END:VEVENT
BEGIN:VEVENT
DTSTART;TZID=UTC:20240922T080000
DTEND;TZID=UTC:20240922T170000
DTSTAMP:20260423T152300
CREATED:20240403T201435Z
LAST-MODIFIED:20240403T202240Z
UID:903-1726992000-1727024400@nakocenter.com
SUMMARY:Kyu Grading
DESCRIPTION:
URL:https://nakocenter.com/event/kyu-grading-2/
CATEGORIES:Kyu Grading
END:VEVENT
BEGIN:VEVENT
DTSTART;TZID=UTC:20240803T080000
DTEND;TZID=UTC:20240803T170000
DTSTAMP:20260423T152300
CREATED:20240403T201202Z
LAST-MODIFIED:20240423T173442Z
UID:901-1722672000-1722704400@nakocenter.com
SUMMARY:Oswego Beach Training
DESCRIPTION:
URL:https://nakocenter.com/event/oswego-beach-training/
LOCATION:Oswego Beach
CATEGORIES:Oswego Beach Training
ATTACH;FMTTYPE=image/jpeg:https://nakocenter.com/wp-content/uploads/2024/04/iStock-1372760151.jpg
END:VEVENT
BEGIN:VEVENT
DTSTART;VALUE=DATE:20240711
DTEND;VALUE=DATE:20240715
DTSTAMP:20260423T152300
CREATED:20240403T201011Z
LAST-MODIFIED:20240425T164628Z
UID:899-1720656000-1721001599@nakocenter.com
SUMMARY:Kyokushin Summer Camp
DESCRIPTION:Click the titles below to obtain the information required to facilitate your Summer Camp experience.\nSummer Camp Itinerary 2024\nSummer Camp Invitation Letter 2024\nSummer Camp 2024 – Payment Instruction Sheet\nSummer Camp 2024 – FAQ General Info
URL:https://nakocenter.com/event/summer-camp/
CATEGORIES:Summer Camp
ORGANIZER;CN="Sensei Susan Collins":MAILTO:scollinseire@yahoo.com
END:VEVENT
BEGIN:VEVENT
DTSTART;TZID=UTC:20240622T103000
DTEND;TZID=UTC:20240622T170000
DTSTAMP:20260423T152300
CREATED:20240521T180943Z
LAST-MODIFIED:20240601T132038Z
UID:1549-1719052200-1719075600@nakocenter.com
SUMMARY:19th Sensei Jim Grafe Memorial Martial Arts Tournament
DESCRIPTION:Check-In: 9:00-10:00 a.m.\nOpening Ceremony: 10:30 a.m. Competition starts immediately following\nLocation: Total Sports Experience 880 Elmgrove Road Rochester\, NY\nPre-registration Deadline: June 15\, 2024\n*Add $20 for June 16-20 No same-day registration!* \nSee www.hiltonkarate.com for more details. \nRegistration packet download: \nhttps://hiltonkarate.com/wp-content/uploads/2024/04/2024-Sensei-Jim-Tourney-registration-packet.pdf
URL:https://nakocenter.com/event/19th-sensei-jim-grafe-memorial-martial-arts-tournament/
CATEGORIES:Tournaments
END:VEVENT
BEGIN:VEVENT
DTSTART;TZID=UTC:20240608T080000
DTEND;TZID=UTC:20240608T170000
DTSTAMP:20260423T152300
CREATED:20240403T200739Z
LAST-MODIFIED:20240403T202317Z
UID:897-1717833600-1717866000@nakocenter.com
SUMMARY:Kyu Grading
DESCRIPTION:
URL:https://nakocenter.com/event/kyu-grading/
CATEGORIES:Kyu Grading
END:VEVENT
END:VCALENDAR